BEGIN:VCALENDAR
VERSION:2.0
PRODID:-//wp-events-plugin.com//7.2.3.1//EN
TZID:Europe/Berlin
X-WR-TIMEZONE:Europe/Berlin
BEGIN:VEVENT
UID:45@mschmidt-lebensart.de
DTSTART;TZID=Europe/Berlin:20230507T080000
DTEND;TZID=Europe/Berlin:20230512T183000
DTSTAMP:20221023T094747Z
URL:https://mschmidt-lebensart.de/events/yogaretreat-auf-langeoog/
SUMMARY:Yogaretreat auf Langeoog
DESCRIPTION:Leider ist das Retreat schon ausgebucht. Warteliste!\n\nYogaret
 reat auf Langeoog\nvom 07.05.2023 bis 12.05.2023\n\nVeranstaltungshaus Nee
 i Bauhoff\nAn den Bauhöfen 1\n26465 Langeoog\n\nDie Veranstaltung ist lei
 der ausgebucht. Es kann eine Warteliste erstellt werden.\n\nFlyer Langeoog
 \nPreis ohne Unterkunft und Verpflegung: 425\,- €\n&nbsp\;
ATTACH;FMTTYPE=image/jpeg:https://mschmidt-lebensart.de/wp-content/uploads
 /2022/06/ticket.jpg
LOCATION:Veranstaltungshaus Neei Bauhoff\, An den Bauhöfen 1 \, Langeoog\,
  26465\, Deutschland
X-APPLE-STRUCTURED-LOCATION;VALUE=URI;X-ADDRESS=An den Bauhöfen 1 \, Lange
 oog\, 26465\, Deutschland;X-APPLE-RADIUS=100;X-TITLE=Veranstaltungshaus Ne
 ei Bauhoff:geo:0,0
END:VEVENT
BEGIN:VTIMEZONE
TZID:Europe/Berlin
X-LIC-LOCATION:Europe/Berlin
BEGIN:DAYLIGHT
DTSTART:20230326T030000
TZOFFSETFROM:+0100
TZOFFSETTO:+0200
TZNAME:CEST
END:DAYLIGHT
END:VTIMEZONE
END:VCALENDAR